BEGIN:VCALENDAR
VERSION:2.0
PRODID:icalendar-ruby
CALSCALE:GREGORIAN
METHOD:PUBLISH
BEGIN:VEVENT
DTSTAMP:20260419T134422Z
UID:586-7330651@stjamescaledoneast.ca
DTSTART:20260620T140000Z
DTEND:20260620T170000Z
CLASS:PUBLIC
CREATED:20260410T121302
DESCRIPTION:This year\, we are riding in solidarity with Elizabeth Morton.
  \n\nClick here to register.  Search for “Elizabeth’s Team - St. Jam
 es\, Caledon East”\n*Register by May 29 as t-shirt sizes are limited*  
 For more information\, or if you need help registering\, please speak with
  Mother Michelle or Grace\n\nAll cycling skill levels are welcome.  \nNot
  a cyclist? You can still donate to show your support!  Click here  (mak
 e sure to choose Elizabeth's Team).\n\n
LAST-MODIFIED:20260410T121302
LOCATION:
SUMMARY:Velocity Cycling for Caledon Community Services 
URL;VALUE=URI:https://www.stjamescaledoneast.ca/events/velocity-cycling-for
 -caledon-community-services/2026-06-20
ATTACH;FILENAME=Velocity Team 2024.jpeg;FMTTYPE=image/jpeg:https://dq5pwpg1
 q8ru0.cloudfront.net/2026/04/10/15/27/17/fba3199f-7778-4a9b-b578-bda4f884a
 53d/Velocity%20Team%202024.jpeg
END:VEVENT
END:VCALENDAR
